BEGIN:VCALENDAR
VERSION:2.0
PRODID:-//Disposable Theatre Productions - ECPv6.15.20//NONSGML v1.0//EN
CALSCALE:GREGORIAN
METHOD:PUBLISH
X-WR-CALNAME:Disposable Theatre Productions
X-ORIGINAL-URL:https://disposabletheatreproductions.com
X-WR-CALDESC:Events for Disposable Theatre Productions
REFRESH-INTERVAL;VALUE=DURATION:PT1H
X-Robots-Tag:noindex
X-PUBLISHED-TTL:PT1H
BEGIN:VTIMEZONE
TZID:America/Chicago
BEGIN:DAYLIGHT
TZOFFSETFROM:-0600
TZOFFSETTO:-0500
TZNAME:CDT
DTSTART:20170312T080000
END:DAYLIGHT
BEGIN:STANDARD
TZOFFSETFROM:-0500
TZOFFSETTO:-0600
TZNAME:CST
DTSTART:20171105T070000
END:STANDARD
BEGIN:DAYLIGHT
TZOFFSETFROM:-0600
TZOFFSETTO:-0500
TZNAME:CDT
DTSTART:20180311T080000
END:DAYLIGHT
BEGIN:STANDARD
TZOFFSETFROM:-0500
TZOFFSETTO:-0600
TZNAME:CST
DTSTART:20181104T070000
END:STANDARD
BEGIN:DAYLIGHT
TZOFFSETFROM:-0600
TZOFFSETTO:-0500
TZNAME:CDT
DTSTART:20190310T080000
END:DAYLIGHT
BEGIN:STANDARD
TZOFFSETFROM:-0500
TZOFFSETTO:-0600
TZNAME:CST
DTSTART:20191103T070000
END:STANDARD
BEGIN:DAYLIGHT
TZOFFSETFROM:-0600
TZOFFSETTO:-0500
TZNAME:CDT
DTSTART:20200308T080000
END:DAYLIGHT
BEGIN:STANDARD
TZOFFSETFROM:-0500
TZOFFSETTO:-0600
TZNAME:CST
DTSTART:20201101T070000
END:STANDARD
END:VTIMEZONE
BEGIN:VEVENT
DTSTART;TZID=America/Chicago:20190309T200000
DTEND;TZID=America/Chicago:20190309T213000
DTSTAMP:20260420T234621
CREATED:20181212T012618Z
LAST-MODIFIED:20190219T235630Z
UID:1155-1552161600-1552167000@disposabletheatreproductions.com
SUMMARY:Disposable Theatre Improv Comes to Clancy's!
DESCRIPTION:Join Disposable Theatre Improv for a night of Hi-jinks at Clancy’s in Portage\, Saturday March 9th\, 2019 at 8 PM! \nTickets available online below\, and in-person the day of the show. Get yours now! \n(21 one and older. Bring ID.)
URL:https://disposabletheatreproductions.com/event/disposable-theatre-improv-saturday-march-9th-800pm/
LOCATION:Clancy’s Public House\, 2542 Portage Mall\, Portage\, IN\, 46368\, United States
CATEGORIES:shows
END:VEVENT
BEGIN:VEVENT
DTSTART;TZID=America/Chicago:20190215T220000
DTEND;TZID=America/Chicago:20190215T230000
DTSTAMP:20260420T234621
CREATED:20190109T212759Z
LAST-MODIFIED:20190109T212841Z
UID:1245-1550268000-1550271600@disposabletheatreproductions.com
SUMMARY:9 Bad Basses "Fish out of Water" @ The Second City
DESCRIPTION:A combo of short and long form improv designed to take us (or you) out of (y)our comfort zone!  Bring your oxygen tanks; you’re gonna need ’em. \nOrder tickets online or by phone at 312-337-3992 \nFeaturing 9 Bad Basses:\nJeff Weitzel\nLaura Zaranski\nAlice Mathews\nStephanie Pendley\nBecca Evans\nTheo Roseberry\nKyle Levitt \nTickets:\n$13 Standard\n$11 College Student (w/ valid I.D.)\n$7 Training Center Student
URL:https://disposabletheatreproductions.com/event/9-bad-basses-fish-out-of-water-the-second-city/
LOCATION:The Second City\, De Maat Studio Theatre\, 230 W. North Ave\, 3rd Floor\, Chicago\, IL\, 60610\, United States
CATEGORIES:shows
END:VEVENT
BEGIN:VEVENT
DTSTART;TZID=America/Chicago:20190209T200000
DTEND;TZID=America/Chicago:20190209T210000
DTSTAMP:20260420T234621
CREATED:20181212T012934Z
LAST-MODIFIED:20181212T234932Z
UID:1152-1549742400-1549746000@disposabletheatreproductions.com
SUMMARY:9 Bad Basses Splash into Clancy's!
DESCRIPTION:Come see the 9 Bad Basses perform a night of serious-business (monkey business) at Clancy’s in Portage\, Saturday\, February 9th\, 8 PM! Be there and be square. \nTickets available online below and in-person at the day of show. \n(21 one and older. Bring ID.)
URL:https://disposabletheatreproductions.com/event/9-bad-basses-saturday-february-9th-800-pm/
LOCATION:Clancy’s Public House\, 2542 Portage Mall\, Portage\, IN\, 46368\, United States
CATEGORIES:shows
END:VEVENT
BEGIN:VEVENT
DTSTART;TZID=America/Chicago:20190120T200000
DTEND;TZID=America/Chicago:20190120T210000
DTSTAMP:20260420T234621
CREATED:20181121T144821Z
LAST-MODIFIED:20181201T165436Z
UID:1132-1548014400-1548018000@disposabletheatreproductions.com
SUMMARY:Disposable Theatre Ensemble @ The Second City
DESCRIPTION:Join Disposable Theatre Improv Ensemble for a night of fun at The Second City\, Chicago on Sun Jan 20\, 2019–8 PM! Tickets available approximately 2 weeks before the show at The Second City Box Office\, or online and tickets will be available day of show. Check back soon for link to show.
URL:https://disposabletheatreproductions.com/event/disposable-theatre-ensemble-the-second-city/
LOCATION:The Second City\, 1616 N Wells St\, Chicago\, IL\, 60614\, United States
CATEGORIES:shows
END:VEVENT
BEGIN:VEVENT
DTSTART;TZID=America/Chicago:20181117T200000
DTEND;TZID=America/Chicago:20181117T213000
DTSTAMP:20260420T234621
CREATED:20180827T174317Z
LAST-MODIFIED:20181201T171014Z
UID:590-1542484800-1542490200@disposabletheatreproductions.com
SUMMARY:Disposable Theatre Improv at Clancy’s (Portage)
DESCRIPTION:Final show of the season! \nJoin Disposable Improv\, our most experienced house team\, at Clancy’s for a night of laughs created from audience suggestions! We’ve been making NW Indiana laugh for over 9 years and every show is different and every show is a great time. Alcohol available inside show. Tickets are ONLY $10. Show starts at 8 pm. Doors open at 7:30 pm Cash bar. 21+ venue.
URL:https://disposabletheatreproductions.com/event/disposable-theatre-and-same-difference-at-clancys-public-house-2/
LOCATION:Clancy’s Public House\, 2542 Portage Mall\, Portage\, IN\, 46368\, United States
CATEGORIES:shows
ATTACH;FMTTYPE=image/jpeg:https://disposabletheatreproductions.com/wp-content/uploads/2018/08/SD-Garage-e1557440525620.jpg
END:VEVENT
BEGIN:VEVENT
DTSTART;TZID=America/Chicago:20181109T200000
DTEND;TZID=America/Chicago:20181109T213000
DTSTAMP:20260420T234621
CREATED:20180827T174156Z
LAST-MODIFIED:20181013T140403Z
UID:587-1541793600-1541799000@disposabletheatreproductions.com
SUMMARY:9 Bad Basses at Parea (Valparaiso)
DESCRIPTION:Join 9 Bad Basses\, Disposable Theatre Productions newest house team\,  is in downtown Valparaiso for a night of fun at Parea.  Bring  your friends for a night of laughs created all from audience suggestions! It’s a great way to end your night out in downtown Valpo. Every show is different and every show is a great time.  Audience interaction and participation makes the shows memorable.  Tickets are $10. Show starts at 8 pm. Doors open at 7:30 pm Cash Only bar.
URL:https://disposabletheatreproductions.com/event/no-name-improv-at-parea/
LOCATION:Parea\, 69 Franklin St\, Valparaiso\, IN\, 46383\, United States
CATEGORIES:shows
ATTACH;FMTTYPE=image/jpeg:https://disposabletheatreproductions.com/wp-content/uploads/2018/08/Event.jpg
END:VEVENT
BEGIN:VEVENT
DTSTART;TZID=America/Chicago:20181103T200000
DTEND;TZID=America/Chicago:20181103T213000
DTSTAMP:20260420T234621
CREATED:20180827T174008Z
LAST-MODIFIED:20181013T140633Z
UID:583-1541275200-1541280600@disposabletheatreproductions.com
SUMMARY:Disposable Theatre Improv at D Performance Theater (Miller Beach)
DESCRIPTION:We’re bringing our laugh-filled house improv team\, Disposable Theatre\, to Miller Beach! Every show is different because it’s all made up! Bring your friends and get ready for some fun.  GET your tickets early as seating this venue has limited seating. Tickets are only  $10 and available on our website. Cash bar. Laughs included.
URL:https://disposabletheatreproductions.com/event/disposable-theatre-and-same-difference-at-d-performance-comedy-theater/
LOCATION:D Performance Comedy Theater\, 500 S Lake Street\, Miller\, IN\, 46403\, United States
CATEGORIES:shows
ATTACH;FMTTYPE=image/jpeg:https://disposabletheatreproductions.com/wp-content/uploads/2018/08/2017-11-18-22.04.34-e1557440636837.jpg
END:VEVENT
BEGIN:VEVENT
DTSTART;TZID=America/Chicago:20181020T200000
DTEND;TZID=America/Chicago:20181020T213000
DTSTAMP:20260420T234621
CREATED:20180827T173222Z
LAST-MODIFIED:20181013T140736Z
UID:578-1540065600-1540071000@disposabletheatreproductions.com
SUMMARY:9 Bad Basses at Clancy’s (Portage)
DESCRIPTION:Join 9 Bad Basses\, Disposable Theatre Productions newest house team\, at Clancy’s in Portage\, as they bring a night of laughs\, all created from audience suggestions! We’ve been making NW Indiana laugh for over 9 years and we don’t plan on stopping now.  Every show is different and every show is a great time. Tickets are only $10. Show starts at 8 pm. Doors open at 7:30 pm Cash bar. 21+ venue.
URL:https://disposabletheatreproductions.com/event/no-name-improv-at-clancys-public-house/
LOCATION:Clancy’s Public House\, 2542 Portage Mall\, Portage\, IN\, 46368\, United States
CATEGORIES:shows
ATTACH;FMTTYPE=image/jpeg:https://disposabletheatreproductions.com/wp-content/uploads/2018/08/2018-04-15-15.22.23-e1557440615489.jpg
END:VEVENT
BEGIN:VEVENT
DTSTART;TZID=America/Chicago:20181013T200000
DTEND;TZID=America/Chicago:20181013T213000
DTSTAMP:20260420T234621
CREATED:20180827T171756Z
LAST-MODIFIED:20181013T135829Z
UID:573-1539460800-1539466200@disposabletheatreproductions.com
SUMMARY:Disposable Theatre Improv at Parea (Valparaiso)
DESCRIPTION:Join our house team\, Disposable Theatre Improv at Parea in Valparaiso as they team up for a night of laughs created from audience suggestions! It’s a great way to start or end your night out in downtown Valpo. Every show is different and every show is a great time. Fun for large groups!  Alcohol and food available. Tickets are $10. Show starts at 8 pm. Doors open at 7:30 pm Cash Only bar.
URL:https://disposabletheatreproductions.com/event/disposable-theatre-and-same-difference-at-parea/
LOCATION:Parea\, 69 Franklin St\, Valparaiso\, IN\, 46383\, United States
CATEGORIES:shows
ATTACH;FMTTYPE=image/jpeg:https://disposabletheatreproductions.com/wp-content/uploads/2014/04/dt-cast-pic.jpg
END:VEVENT
BEGIN:VEVENT
DTSTART;TZID=America/Chicago:20180915T200000
DTEND;TZID=America/Chicago:20180915T200000
DTSTAMP:20260420T234621
CREATED:20180827T170428Z
LAST-MODIFIED:20181005T195346Z
UID:568-1537041600-1537041600@disposabletheatreproductions.com
SUMMARY:Disposable Theatre Improv at Clancy’s Public House
DESCRIPTION:Join Disposable Theatre Improv house team at Clancy’s as they team up for a night of laughs created from audience suggestions! We’ve been making NW Indiana laugh for years and every show is different and every show is a great time. Tickets are $10. Show starts at 8 pm. Doors open at 7:30 pm Cash bar. 21+ venue.
URL:https://disposabletheatreproductions.com/event/disposable-theatre-and-same-difference-at-clancys-public-house/
LOCATION:Clancy’s Public House\, 2542 Portage Mall\, Portage\, IN\, 46368\, United States
CATEGORIES:shows
ATTACH;FMTTYPE=image/jpeg:https://disposabletheatreproductions.com/wp-content/uploads/2018/04/DT-D-Performance-Cropped.jpg
END:VEVENT
END:VCALENDAR